BEGIN:VCALENDAR
VERSION:2.0
PRODID:spatie/icalendar-generator
DESCRIPTION:Eventi da ELMI
X-WR-CALDESC:Eventi da ELMI
REFRESH-INTERVAL;VALUE=DURATION:PT1440M
X-PUBLISHED-TTL:PT1440M
BEGIN:VTIMEZONE
TZID:Europe/Rome
BEGIN:STANDARD
DTSTART:20251026T030000Z
TZOFFSETFROM:+0200
TZOFFSETTO:+0100
END:STANDARD
BEGIN:DAYLIGHT
DTSTART:20260329T020000Z
TZOFFSETFROM:+0100
TZOFFSETTO:+0200
END:DAYLIGHT
BEGIN:STANDARD
DTSTART:20261025T030000Z
TZOFFSETFROM:+0200
TZOFFSETTO:+0100
END:STANDARD
END:VTIMEZONE
BEGIN:VTIMEZONE
TZID:UTC
BEGIN:STANDARD
DTSTART:20250723T134259Z
TZOFFSETFROM:+0000
TZOFFSETTO:+0000
END:STANDARD
END:VTIMEZONE
BEGIN:VEVENT
UID:44-24
DTSTAMP:20260419T134259Z
SUMMARY:Career Day \"Incontra il tuo futuro\" - ISTITUTO TECNICO “VITTORI
 O EMANUELE III”
LOCATION:
ORGANIZER;CN=admin:MAILTO:admin@elmisoftware.com
DTSTART;TZID=Europe/Rome:20260508T083000
DTEND;TZID=Europe/Rome:20260508T093000
X-ALT-DESC;FMTTYPE=TEXT/HTML:
CATEGORIES:General
URL;VALUE=URI:https://www.elmisoftware.com/mc-events/career-day-incontra-il
 -tuo-futuro-istituto-tecnico-vittorio-emanuele-iii/?mc_id=44
END:VEVENT
END:VCALENDAR