BEGIN:VCALENDAR
VERSION:2.0
PRODID:spatie/icalendar-generator
DESCRIPTION:Eventi da ELMI
X-WR-CALDESC:Eventi da ELMI
REFRESH-INTERVAL;VALUE=DURATION:PT1440M
X-PUBLISHED-TTL:PT1440M
BEGIN:VTIMEZONE
TZID:Europe/Rome
BEGIN:DAYLIGHT
DTSTART:20250330T020000Z
TZOFFSETFROM:+0100
TZOFFSETTO:+0200
END:DAYLIGHT
BEGIN:STANDARD
DTSTART:20251026T030000Z
TZOFFSETFROM:+0200
TZOFFSETTO:+0100
END:STANDARD
BEGIN:DAYLIGHT
DTSTART:20260329T020000Z
TZOFFSETFROM:+0100
TZOFFSETTO:+0200
END:DAYLIGHT
END:VTIMEZONE
BEGIN:VTIMEZONE
TZID:UTC
BEGIN:STANDARD
DTSTART:20250723T180050Z
TZOFFSETFROM:+0000
TZOFFSETTO:+0000
END:STANDARD
END:VTIMEZONE
BEGIN:VEVENT
UID:16-9
DTSTAMP:20260419T180050Z
SUMMARY:Partecipazione aziendale 111ª edizione Congresso Nazionale Societ
 à Italiana di Fisica (SIF)
LOCATION:
ORGANIZER;CN=admin:MAILTO:admin@elmisoftware.com
DTSTART;TZID=Europe/Rome:20250925T090000
DTEND;TZID=Europe/Rome:20250925T183000
X-ALT-DESC;FMTTYPE=TEXT/HTML:
CATEGORIES:General
URL;VALUE=URI:https://www.elmisoftware.com/mc-events/partecipazione-azienda
 le-111a-edizione-congresso-nazionale-societa-italiana-di-fisica-sif-2/?mc_
 id=16
END:VEVENT
END:VCALENDAR