BEGIN:VCALENDAR
VERSION:2.0
PRODID:spatie/icalendar-generator
DESCRIPTION:Eventi da ELMI
X-WR-CALDESC:Eventi da ELMI
REFRESH-INTERVAL;VALUE=DURATION:PT1440M
X-PUBLISHED-TTL:PT1440M
BEGIN:VTIMEZONE
TZID:Europe/Rome
BEGIN:STANDARD
DTSTART:20251026T030000Z
TZOFFSETFROM:+0200
TZOFFSETTO:+0100
END:STANDARD
BEGIN:DAYLIGHT
DTSTART:20260329T020000Z
TZOFFSETFROM:+0100
TZOFFSETTO:+0200
END:DAYLIGHT
END:VTIMEZONE
BEGIN:VTIMEZONE
TZID:UTC
BEGIN:STANDARD
DTSTART:20250723T164156Z
TZOFFSETFROM:+0000
TZOFFSETTO:+0000
END:STANDARD
END:VTIMEZONE
BEGIN:VEVENT
UID:31-18
DTSTAMP:20260419T164156Z
SUMMARY:Scadenza 15 febbraio 2026 per la compilazione del questionario AgID
  sulla gestione documentale
LOCATION:
ORGANIZER;CN=admin:MAILTO:admin@elmisoftware.com
DTSTART;TZID=Europe/Rome;VALUE=DATE:20260215
DTEND;TZID=Europe/Rome;VALUE=DATE:20260216
X-ALT-DESC;FMTTYPE=TEXT/HTML:La scadenza per l’invio del questionario AgI
 D sulla gestione documentale è stata prorogata al 15 febbraio 2026. Scopr
 i chi deve compilare e come inviare i dati: https://www.elmisoftware.com/q
 uestionario-agid-sulla-gestione-documentale-proroga-al-15-febbraio-2026-pe
 r-linvio-dei-dati/
CATEGORIES:General
URL;VALUE=URI:https://www.elmisoftware.com/mc-events/scadenza-15-febbraio-2
 026-per-la-compilazione-del-questionario-agid-sulla-gestione-documentale/?
 mc_id=31
END:VEVENT
END:VCALENDAR