BEGIN:VCALENDAR
VERSION:2.0
PRODID:spatie/icalendar-generator
DESCRIPTION:Eventi da ELMI
X-WR-CALDESC:Eventi da ELMI
REFRESH-INTERVAL;VALUE=DURATION:PT1440M
X-PUBLISHED-TTL:PT1440M
BEGIN:VTIMEZONE
TZID:Europe/Rome
BEGIN:STANDARD
DTSTART:20251026T030000Z
TZOFFSETFROM:+0200
TZOFFSETTO:+0100
END:STANDARD
BEGIN:DAYLIGHT
DTSTART:20260329T020000Z
TZOFFSETFROM:+0100
TZOFFSETTO:+0200
END:DAYLIGHT
END:VTIMEZONE
BEGIN:VTIMEZONE
TZID:UTC
BEGIN:STANDARD
DTSTART:20250723T162419Z
TZOFFSETFROM:+0000
TZOFFSETTO:+0000
END:STANDARD
END:VTIMEZONE
BEGIN:VEVENT
UID:24-15
DTSTAMP:20260419T162419Z
SUMMARY:Scadenza 31 dicembre: AgID invita alla compilazione del nuovo quest
 ionario sulla formazione\, gestione e conservazione dei documenti informat
 ici
LOCATION:
ORGANIZER;CN=admin:MAILTO:admin@elmisoftware.com
DTSTART;TZID=Europe/Rome;VALUE=DATE:20251231
DTEND;TZID=Europe/Rome;VALUE=DATE:20260101
X-ALT-DESC;FMTTYPE=TEXT/HTML:Entro il 31 dicembre 2025\, AgID invita le Pub
 bliche Amministrazioni\, gli enti pubblici\, le società a controllo pubbl
 ico e i gestori di servizi pubblici a compilare il questionario sullo stat
 o di attuazione delle Linee Guida sulla gestione e conservazione dei docum
 enti informatici. Ecco il link: https://gestionedocumentalept.agid.gov.it/
CATEGORIES:General
URL;VALUE=URI:https://www.elmisoftware.com/mc-events/scadenza-31-dicembre-a
 gid-invita-alla-compilazione-del-nuovo-questionario-sulla-formazione-gesti
 one-e-conservazione-dei-documenti-informatici/?mc_id=24
END:VEVENT
END:VCALENDAR