BEGIN:VCALENDAR
VERSION:2.0
PRODID:spatie/icalendar-generator
DESCRIPTION:Eventi da ELMI
X-WR-CALDESC:Eventi da ELMI
REFRESH-INTERVAL;VALUE=DURATION:PT1440M
X-PUBLISHED-TTL:PT1440M
BEGIN:VTIMEZONE
TZID:Europe/Rome
BEGIN:STANDARD
DTSTART:20251026T030000Z
TZOFFSETFROM:+0200
TZOFFSETTO:+0100
END:STANDARD
BEGIN:DAYLIGHT
DTSTART:20260329T020000Z
TZOFFSETFROM:+0100
TZOFFSETTO:+0200
END:DAYLIGHT
END:VTIMEZONE
BEGIN:VTIMEZONE
TZID:UTC
BEGIN:STANDARD
DTSTART:20250723T145655Z
TZOFFSETFROM:+0000
TZOFFSETTO:+0000
END:STANDARD
END:VTIMEZONE
BEGIN:VEVENT
UID:27-16
DTSTAMP:20260419T145655Z
SUMMARY:Webinar | Dal Piano Triennale al formulario AgID: cosa verificare e
  cosa completare nel 2026
LOCATION:
ORGANIZER;CN=admin:MAILTO:admin@elmisoftware.com
DTSTART;TZID=Europe/Rome:20260219T110000
DTEND;TZID=Europe/Rome:20260219T120000
X-ALT-DESC;FMTTYPE=TEXT/HTML:
CATEGORIES:General
URL;VALUE=URI:https://www.elmisoftware.com/mc-events/webinar-dal-piano-trie
 nnale-al-formulario-agid-cosa-verificare-e-cosa-completare-nel-2026/?mc_id
 =27
END:VEVENT
END:VCALENDAR