BEGIN:VCALENDAR
VERSION:2.0
PRODID:spatie/icalendar-generator
DESCRIPTION:Eventi da ELMI
X-WR-CALDESC:Eventi da ELMI
REFRESH-INTERVAL;VALUE=DURATION:PT1440M
X-PUBLISHED-TTL:PT1440M
BEGIN:VTIMEZONE
TZID:Europe/Rome
BEGIN:STANDARD
DTSTART:20251026T030000Z
TZOFFSETFROM:+0200
TZOFFSETTO:+0100
END:STANDARD
BEGIN:DAYLIGHT
DTSTART:20260329T020000Z
TZOFFSETFROM:+0100
TZOFFSETTO:+0200
END:DAYLIGHT
END:VTIMEZONE
BEGIN:VTIMEZONE
TZID:UTC
BEGIN:STANDARD
DTSTART:20250723T161835Z
TZOFFSETFROM:+0000
TZOFFSETTO:+0000
END:STANDARD
END:VTIMEZONE
BEGIN:VEVENT
UID:28-17
DTSTAMP:20260419T161835Z
SUMMARY:Webinar: Gli incentivi automatici nella finanziaria 2026
LOCATION:
ORGANIZER;CN=admin:MAILTO:admin@elmisoftware.com
DTSTART;TZID=Europe/Rome:20260127T150000
DTEND;TZID=Europe/Rome:20260127T163000
X-ALT-DESC;FMTTYPE=TEXT/HTML:Per riservare il tuo posto al webinar\, ecco i
 l link alla pagina di registrazione: https://register.gotowebinar.com/regi
 ster/56565927869013600
CATEGORIES:General
URL;VALUE=URI:https://www.elmisoftware.com/mc-events/webinar-gli-incentivi-
 automatici-nella-finanziaria-2026/?mc_id=28
END:VEVENT
END:VCALENDAR